BEGIN:VCALENDAR
VERSION:2.0
PRODID:-//Stägetritt - ECPv6.15.20//NONSGML v1.0//EN
CALSCALE:GREGORIAN
METHOD:PUBLISH
X-WR-CALNAME:Stägetritt
X-ORIGINAL-URL:https://prev.staegetritt.ch
X-WR-CALDESC:Veranstaltungen für Stägetritt
REFRESH-INTERVAL;VALUE=DURATION:PT1H
X-Robots-Tag:noindex
X-PUBLISHED-TTL:PT1H
BEGIN:VTIMEZONE
TZID:Europe/Zurich
BEGIN:DAYLIGHT
TZOFFSETFROM:+0100
TZOFFSETTO:+0200
TZNAME:CEST
DTSTART:20250330T010000
END:DAYLIGHT
BEGIN:STANDARD
TZOFFSETFROM:+0200
TZOFFSETTO:+0100
TZNAME:CET
DTSTART:20251026T010000
END:STANDARD
BEGIN:DAYLIGHT
TZOFFSETFROM:+0100
TZOFFSETTO:+0200
TZNAME:CEST
DTSTART:20260329T010000
END:DAYLIGHT
BEGIN:STANDARD
TZOFFSETFROM:+0200
TZOFFSETTO:+0100
TZNAME:CET
DTSTART:20261025T010000
END:STANDARD
BEGIN:DAYLIGHT
TZOFFSETFROM:+0100
TZOFFSETTO:+0200
TZNAME:CEST
DTSTART:20270328T010000
END:DAYLIGHT
BEGIN:STANDARD
TZOFFSETFROM:+0200
TZOFFSETTO:+0100
TZNAME:CET
DTSTART:20271031T010000
END:STANDARD
END:VTIMEZONE
BEGIN:VEVENT
DTSTART;TZID=Europe/Zurich:20260506T093000
DTEND;TZID=Europe/Zurich:20260506T120000
DTSTAMP:20260420T201855
CREATED:20251125T134400Z
LAST-MODIFIED:20251125T134400Z
UID:11979-1778059800-1778068800@prev.staegetritt.ch
SUMMARY:Sensorama
DESCRIPTION:
URL:https://prev.staegetritt.ch/veranstaltung/sensorama-47/
LOCATION:gate27\, Theaterstrasse 27b\, Winterthur\, 8400
CATEGORIES:Familien
ATTACH;FMTTYPE=image/jpeg:https://prev.staegetritt.ch/wp-content/uploads/2025/05/agenda-sensorama.jpg
END:VEVENT
BEGIN:VEVENT
DTSTART;TZID=Europe/Zurich:20260513T093000
DTEND;TZID=Europe/Zurich:20260513T120000
DTSTAMP:20260420T201855
CREATED:20251125T134401Z
LAST-MODIFIED:20251125T134401Z
UID:11980-1778664600-1778673600@prev.staegetritt.ch
SUMMARY:Sensorama
DESCRIPTION:
URL:https://prev.staegetritt.ch/veranstaltung/sensorama-48/
LOCATION:gate27\, Theaterstrasse 27b\, Winterthur\, 8400
CATEGORIES:Familien
ATTACH;FMTTYPE=image/jpeg:https://prev.staegetritt.ch/wp-content/uploads/2025/05/agenda-sensorama.jpg
END:VEVENT
BEGIN:VEVENT
DTSTART;TZID=Europe/Zurich:20260520T093000
DTEND;TZID=Europe/Zurich:20260520T120000
DTSTAMP:20260420T201855
CREATED:20251125T134402Z
LAST-MODIFIED:20251125T134402Z
UID:11981-1779269400-1779278400@prev.staegetritt.ch
SUMMARY:Sensorama
DESCRIPTION:
URL:https://prev.staegetritt.ch/veranstaltung/sensorama-49/
LOCATION:gate27\, Theaterstrasse 27b\, Winterthur\, 8400
CATEGORIES:Familien
ATTACH;FMTTYPE=image/jpeg:https://prev.staegetritt.ch/wp-content/uploads/2025/05/agenda-sensorama.jpg
END:VEVENT
BEGIN:VEVENT
DTSTART;TZID=Europe/Zurich:20260527T093000
DTEND;TZID=Europe/Zurich:20260527T120000
DTSTAMP:20260420T201855
CREATED:20251125T134403Z
LAST-MODIFIED:20251125T134403Z
UID:11982-1779874200-1779883200@prev.staegetritt.ch
SUMMARY:Sensorama
DESCRIPTION:
URL:https://prev.staegetritt.ch/veranstaltung/sensorama-50/
LOCATION:gate27\, Theaterstrasse 27b\, Winterthur\, 8400
CATEGORIES:Familien
ATTACH;FMTTYPE=image/jpeg:https://prev.staegetritt.ch/wp-content/uploads/2025/05/agenda-sensorama.jpg
END:VEVENT
END:VCALENDAR