BEGIN:VCALENDAR
VERSION:2.0
PRODID:-//Stägetritt - ECPv6.15.20//NONSGML v1.0//EN
CALSCALE:GREGORIAN
METHOD:PUBLISH
X-ORIGINAL-URL:https://prev.staegetritt.ch
X-WR-CALDESC:Veranstaltungen für Stägetritt
REFRESH-INTERVAL;VALUE=DURATION:PT1H
X-Robots-Tag:noindex
X-PUBLISHED-TTL:PT1H
BEGIN:VTIMEZONE
TZID:Europe/Zurich
BEGIN:DAYLIGHT
TZOFFSETFROM:+0100
TZOFFSETTO:+0200
TZNAME:CEST
DTSTART:20250330T010000
END:DAYLIGHT
BEGIN:STANDARD
TZOFFSETFROM:+0200
TZOFFSETTO:+0100
TZNAME:CET
DTSTART:20251026T010000
END:STANDARD
BEGIN:DAYLIGHT
TZOFFSETFROM:+0100
TZOFFSETTO:+0200
TZNAME:CEST
DTSTART:20260329T010000
END:DAYLIGHT
BEGIN:STANDARD
TZOFFSETFROM:+0200
TZOFFSETTO:+0100
TZNAME:CET
DTSTART:20261025T010000
END:STANDARD
BEGIN:DAYLIGHT
TZOFFSETFROM:+0100
TZOFFSETTO:+0200
TZNAME:CEST
DTSTART:20270328T010000
END:DAYLIGHT
BEGIN:STANDARD
TZOFFSETFROM:+0200
TZOFFSETTO:+0100
TZNAME:CET
DTSTART:20271031T010000
END:STANDARD
END:VTIMEZONE
BEGIN:VEVENT
DTSTART;TZID=Europe/Zurich:20260421T183000
DTEND;TZID=Europe/Zurich:20260421T193000
DTSTAMP:20260420T234525
CREATED:20260107T121530Z
LAST-MODIFIED:20260107T122444Z
UID:12313-1776796200-1776799800@prev.staegetritt.ch
SUMMARY:Schwangerschaftspilates
DESCRIPTION:
URL:https://prev.staegetritt.ch/veranstaltung/schwangerschaftspilates-47/
LOCATION:gate27\, Theaterstrasse 27b\, Winterthur\, 8400
CATEGORIES:Familien
ATTACH;FMTTYPE=image/webp:https://prev.staegetritt.ch/wp-content/uploads/2025/11/schwangerschaftspilates-titelbild.webp
END:VEVENT
BEGIN:VEVENT
DTSTART;TZID=Europe/Zurich:20260428T183000
DTEND;TZID=Europe/Zurich:20260428T193000
DTSTAMP:20260420T234525
CREATED:20260107T121538Z
LAST-MODIFIED:20260107T122455Z
UID:12312-1777401000-1777404600@prev.staegetritt.ch
SUMMARY:Schwangerschaftspilates
DESCRIPTION:
URL:https://prev.staegetritt.ch/veranstaltung/schwangerschaftspilates-48/
LOCATION:gate27\, Theaterstrasse 27b\, Winterthur\, 8400
CATEGORIES:Familien
ATTACH;FMTTYPE=image/webp:https://prev.staegetritt.ch/wp-content/uploads/2025/11/schwangerschaftspilates-titelbild.webp
END:VEVENT
END:VCALENDAR