BEGIN:VCALENDAR
VERSION:2.0
PRODID:-//Stägetritt - ECPv6.15.20//NONSGML v1.0//EN
CALSCALE:GREGORIAN
METHOD:PUBLISH
X-WR-CALNAME:Stägetritt
X-ORIGINAL-URL:https://prev.staegetritt.ch
X-WR-CALDESC:Veranstaltungen für Stägetritt
REFRESH-INTERVAL;VALUE=DURATION:PT1H
X-Robots-Tag:noindex
X-PUBLISHED-TTL:PT1H
BEGIN:VTIMEZONE
TZID:Europe/Zurich
BEGIN:DAYLIGHT
TZOFFSETFROM:+0100
TZOFFSETTO:+0200
TZNAME:CEST
DTSTART:20250330T010000
END:DAYLIGHT
BEGIN:STANDARD
TZOFFSETFROM:+0200
TZOFFSETTO:+0100
TZNAME:CET
DTSTART:20251026T010000
END:STANDARD
BEGIN:DAYLIGHT
TZOFFSETFROM:+0100
TZOFFSETTO:+0200
TZNAME:CEST
DTSTART:20260329T010000
END:DAYLIGHT
BEGIN:STANDARD
TZOFFSETFROM:+0200
TZOFFSETTO:+0100
TZNAME:CET
DTSTART:20261025T010000
END:STANDARD
BEGIN:DAYLIGHT
TZOFFSETFROM:+0100
TZOFFSETTO:+0200
TZNAME:CEST
DTSTART:20270328T010000
END:DAYLIGHT
BEGIN:STANDARD
TZOFFSETFROM:+0200
TZOFFSETTO:+0100
TZNAME:CET
DTSTART:20271031T010000
END:STANDARD
END:VTIMEZONE
BEGIN:VEVENT
DTSTART;TZID=Europe/Zurich:20260602T183000
DTEND;TZID=Europe/Zurich:20260602T193000
DTSTAMP:20260421T033017
CREATED:20260107T121710Z
LAST-MODIFIED:20260107T122550Z
UID:12338-1780425000-1780428600@prev.staegetritt.ch
SUMMARY:Schwangerschaftspilates
DESCRIPTION:
URL:https://prev.staegetritt.ch/veranstaltung/schwangerschaftspilates-53/
LOCATION:gate27\, Theaterstrasse 27b\, Winterthur\, 8400
CATEGORIES:Familien
ATTACH;FMTTYPE=image/webp:https://prev.staegetritt.ch/wp-content/uploads/2025/11/schwangerschaftspilates-titelbild.webp
END:VEVENT
BEGIN:VEVENT
DTSTART;TZID=Europe/Zurich:20260609T183000
DTEND;TZID=Europe/Zurich:20260609T193000
DTSTAMP:20260421T033017
CREATED:20260107T121717Z
LAST-MODIFIED:20260107T122600Z
UID:12339-1781029800-1781033400@prev.staegetritt.ch
SUMMARY:Schwangerschaftspilates
DESCRIPTION:
URL:https://prev.staegetritt.ch/veranstaltung/schwangerschaftspilates-54/
LOCATION:gate27\, Theaterstrasse 27b\, Winterthur\, 8400
CATEGORIES:Familien
ATTACH;FMTTYPE=image/webp:https://prev.staegetritt.ch/wp-content/uploads/2025/11/schwangerschaftspilates-titelbild.webp
END:VEVENT
BEGIN:VEVENT
DTSTART;TZID=Europe/Zurich:20260616T183000
DTEND;TZID=Europe/Zurich:20260616T193000
DTSTAMP:20260421T033017
CREATED:20260107T121724Z
LAST-MODIFIED:20260107T122609Z
UID:12340-1781634600-1781638200@prev.staegetritt.ch
SUMMARY:Schwangerschaftspilates
DESCRIPTION:
URL:https://prev.staegetritt.ch/veranstaltung/schwangerschaftspilates-55/
LOCATION:gate27\, Theaterstrasse 27b\, Winterthur\, 8400
CATEGORIES:Familien
ATTACH;FMTTYPE=image/webp:https://prev.staegetritt.ch/wp-content/uploads/2025/11/schwangerschaftspilates-titelbild.webp
END:VEVENT
BEGIN:VEVENT
DTSTART;TZID=Europe/Zurich:20260623T183000
DTEND;TZID=Europe/Zurich:20260623T193000
DTSTAMP:20260421T033017
CREATED:20260107T121730Z
LAST-MODIFIED:20260107T122619Z
UID:12341-1782239400-1782243000@prev.staegetritt.ch
SUMMARY:Schwangerschaftspilates
DESCRIPTION:
URL:https://prev.staegetritt.ch/veranstaltung/schwangerschaftspilates-56/
LOCATION:gate27\, Theaterstrasse 27b\, Winterthur\, 8400
CATEGORIES:Familien
ATTACH;FMTTYPE=image/webp:https://prev.staegetritt.ch/wp-content/uploads/2025/11/schwangerschaftspilates-titelbild.webp
END:VEVENT
BEGIN:VEVENT
DTSTART;TZID=Europe/Zurich:20260630T183000
DTEND;TZID=Europe/Zurich:20260630T193000
DTSTAMP:20260421T033017
CREATED:20260107T121738Z
LAST-MODIFIED:20260107T122630Z
UID:12342-1782844200-1782847800@prev.staegetritt.ch
SUMMARY:Schwangerschaftspilates
DESCRIPTION:
URL:https://prev.staegetritt.ch/veranstaltung/schwangerschaftspilates-57/
LOCATION:gate27\, Theaterstrasse 27b\, Winterthur\, 8400
CATEGORIES:Familien
ATTACH;FMTTYPE=image/webp:https://prev.staegetritt.ch/wp-content/uploads/2025/11/schwangerschaftspilates-titelbild.webp
END:VEVENT
END:VCALENDAR