BEGIN:VCALENDAR
VERSION:2.0
PRODID:-//Stägetritt - ECPv6.15.20//NONSGML v1.0//EN
CALSCALE:GREGORIAN
METHOD:PUBLISH
X-WR-CALNAME:Stägetritt
X-ORIGINAL-URL:https://prev.staegetritt.ch
X-WR-CALDESC:Veranstaltungen für Stägetritt
REFRESH-INTERVAL;VALUE=DURATION:PT1H
X-Robots-Tag:noindex
X-PUBLISHED-TTL:PT1H
BEGIN:VTIMEZONE
TZID:Europe/Zurich
BEGIN:DAYLIGHT
TZOFFSETFROM:+0100
TZOFFSETTO:+0200
TZNAME:CEST
DTSTART:20250330T010000
END:DAYLIGHT
BEGIN:STANDARD
TZOFFSETFROM:+0200
TZOFFSETTO:+0100
TZNAME:CET
DTSTART:20251026T010000
END:STANDARD
BEGIN:DAYLIGHT
TZOFFSETFROM:+0100
TZOFFSETTO:+0200
TZNAME:CEST
DTSTART:20260329T010000
END:DAYLIGHT
BEGIN:STANDARD
TZOFFSETFROM:+0200
TZOFFSETTO:+0100
TZNAME:CET
DTSTART:20261025T010000
END:STANDARD
BEGIN:DAYLIGHT
TZOFFSETFROM:+0100
TZOFFSETTO:+0200
TZNAME:CEST
DTSTART:20270328T010000
END:DAYLIGHT
BEGIN:STANDARD
TZOFFSETFROM:+0200
TZOFFSETTO:+0100
TZNAME:CET
DTSTART:20271031T010000
END:STANDARD
END:VTIMEZONE
BEGIN:VEVENT
DTSTART;TZID=Europe/Zurich:20260702T090000
DTEND;TZID=Europe/Zurich:20260702T110000
DTSTAMP:20260420T235227
CREATED:20251125T135657Z
LAST-MODIFIED:20260131T154344Z
UID:12039-1782982800-1782990000@prev.staegetritt.ch
SUMMARY:Eltern-Kind-Singen
DESCRIPTION:
URL:https://prev.staegetritt.ch/veranstaltung/eltern-kind-singen-70/
LOCATION:gate27\, Theaterstrasse 27b\, Winterthur\, 8400
CATEGORIES:Familien
ATTACH;FMTTYPE=image/webp:https://prev.staegetritt.ch/wp-content/uploads/2025/12/eltern-kind-singen-agenda.webp
END:VEVENT
BEGIN:VEVENT
DTSTART;TZID=Europe/Zurich:20260709T090000
DTEND;TZID=Europe/Zurich:20260709T110000
DTSTAMP:20260420T235227
CREATED:20251125T135658Z
LAST-MODIFIED:20260131T154351Z
UID:12040-1783587600-1783594800@prev.staegetritt.ch
SUMMARY:Eltern-Kind-Singen
DESCRIPTION:
URL:https://prev.staegetritt.ch/veranstaltung/eltern-kind-singen-71/
LOCATION:gate27\, Theaterstrasse 27b\, Winterthur\, 8400
CATEGORIES:Familien
ATTACH;FMTTYPE=image/webp:https://prev.staegetritt.ch/wp-content/uploads/2025/12/eltern-kind-singen-agenda.webp
END:VEVENT
END:VCALENDAR