BEGIN:VCALENDAR
VERSION:2.0
PRODID:-//Stägetritt - ECPv6.15.20//NONSGML v1.0//EN
CALSCALE:GREGORIAN
METHOD:PUBLISH
X-ORIGINAL-URL:https://prev.staegetritt.ch
X-WR-CALDESC:Veranstaltungen für Stägetritt
REFRESH-INTERVAL;VALUE=DURATION:PT1H
X-Robots-Tag:noindex
X-PUBLISHED-TTL:PT1H
BEGIN:VTIMEZONE
TZID:Europe/Zurich
BEGIN:DAYLIGHT
TZOFFSETFROM:+0100
TZOFFSETTO:+0200
TZNAME:CEST
DTSTART:20250330T010000
END:DAYLIGHT
BEGIN:STANDARD
TZOFFSETFROM:+0200
TZOFFSETTO:+0100
TZNAME:CET
DTSTART:20251026T010000
END:STANDARD
BEGIN:DAYLIGHT
TZOFFSETFROM:+0100
TZOFFSETTO:+0200
TZNAME:CEST
DTSTART:20260329T010000
END:DAYLIGHT
BEGIN:STANDARD
TZOFFSETFROM:+0200
TZOFFSETTO:+0100
TZNAME:CET
DTSTART:20261025T010000
END:STANDARD
BEGIN:DAYLIGHT
TZOFFSETFROM:+0100
TZOFFSETTO:+0200
TZNAME:CEST
DTSTART:20270328T010000
END:DAYLIGHT
BEGIN:STANDARD
TZOFFSETFROM:+0200
TZOFFSETTO:+0100
TZNAME:CET
DTSTART:20271031T010000
END:STANDARD
END:VTIMEZONE
BEGIN:VEVENT
DTSTART;TZID=Europe/Zurich:20260702T084500
DTEND;TZID=Europe/Zurich:20260702T111500
DTSTAMP:20260420T234447
CREATED:20251125T134231Z
LAST-MODIFIED:20251125T134231Z
UID:11958-1782981900-1782990900@prev.staegetritt.ch
SUMMARY:Bärliland
DESCRIPTION:
URL:https://prev.staegetritt.ch/veranstaltung/baerliland-88/
LOCATION:gate27\, Theaterstrasse 27b\, Winterthur\, 8400
CATEGORIES:Familien
ATTACH;FMTTYPE=image/jpeg:https://prev.staegetritt.ch/wp-content/uploads/2025/05/agenda-baerliland.jpg
END:VEVENT
BEGIN:VEVENT
DTSTART;TZID=Europe/Zurich:20260703T084500
DTEND;TZID=Europe/Zurich:20260703T111500
DTSTAMP:20260420T234447
CREATED:20251125T134232Z
LAST-MODIFIED:20251125T134232Z
UID:11959-1783068300-1783077300@prev.staegetritt.ch
SUMMARY:Bärliland
DESCRIPTION:
URL:https://prev.staegetritt.ch/veranstaltung/baerliland-89/
LOCATION:gate27\, Theaterstrasse 27b\, Winterthur\, 8400
CATEGORIES:Familien
ATTACH;FMTTYPE=image/jpeg:https://prev.staegetritt.ch/wp-content/uploads/2025/05/agenda-baerliland.jpg
END:VEVENT
BEGIN:VEVENT
DTSTART;TZID=Europe/Zurich:20260709T084500
DTEND;TZID=Europe/Zurich:20260709T111500
DTSTAMP:20260420T234447
CREATED:20251125T134233Z
LAST-MODIFIED:20251125T134233Z
UID:11960-1783586700-1783595700@prev.staegetritt.ch
SUMMARY:Bärliland
DESCRIPTION:
URL:https://prev.staegetritt.ch/veranstaltung/baerliland-90/
LOCATION:gate27\, Theaterstrasse 27b\, Winterthur\, 8400
CATEGORIES:Familien
ATTACH;FMTTYPE=image/jpeg:https://prev.staegetritt.ch/wp-content/uploads/2025/05/agenda-baerliland.jpg
END:VEVENT
BEGIN:VEVENT
DTSTART;TZID=Europe/Zurich:20260710T084500
DTEND;TZID=Europe/Zurich:20260710T111500
DTSTAMP:20260420T234447
CREATED:20251125T134234Z
LAST-MODIFIED:20251125T134234Z
UID:11961-1783673100-1783682100@prev.staegetritt.ch
SUMMARY:Bärliland
DESCRIPTION:
URL:https://prev.staegetritt.ch/veranstaltung/baerliland-91/
LOCATION:gate27\, Theaterstrasse 27b\, Winterthur\, 8400
CATEGORIES:Familien
ATTACH;FMTTYPE=image/jpeg:https://prev.staegetritt.ch/wp-content/uploads/2025/05/agenda-baerliland.jpg
END:VEVENT
END:VCALENDAR