BEGIN:VCALENDAR
VERSION:2.0
PRODID:-//Stägetritt - ECPv6.15.20//NONSGML v1.0//EN
CALSCALE:GREGORIAN
METHOD:PUBLISH
X-WR-CALNAME:Stägetritt
X-ORIGINAL-URL:https://prev.staegetritt.ch
X-WR-CALDESC:Veranstaltungen für Stägetritt
REFRESH-INTERVAL;VALUE=DURATION:PT1H
X-Robots-Tag:noindex
X-PUBLISHED-TTL:PT1H
BEGIN:VTIMEZONE
TZID:Europe/Zurich
BEGIN:DAYLIGHT
TZOFFSETFROM:+0100
TZOFFSETTO:+0200
TZNAME:CEST
DTSTART:20250330T010000
END:DAYLIGHT
BEGIN:STANDARD
TZOFFSETFROM:+0200
TZOFFSETTO:+0100
TZNAME:CET
DTSTART:20251026T010000
END:STANDARD
BEGIN:DAYLIGHT
TZOFFSETFROM:+0100
TZOFFSETTO:+0200
TZNAME:CEST
DTSTART:20260329T010000
END:DAYLIGHT
BEGIN:STANDARD
TZOFFSETFROM:+0200
TZOFFSETTO:+0100
TZNAME:CET
DTSTART:20261025T010000
END:STANDARD
BEGIN:DAYLIGHT
TZOFFSETFROM:+0100
TZOFFSETTO:+0200
TZNAME:CEST
DTSTART:20270328T010000
END:DAYLIGHT
BEGIN:STANDARD
TZOFFSETFROM:+0200
TZOFFSETTO:+0100
TZNAME:CET
DTSTART:20271031T010000
END:STANDARD
END:VTIMEZONE
BEGIN:VEVENT
DTSTART;TZID=Europe/Zurich:20260321T093000
DTEND;TZID=Europe/Zurich:20260321T130000
DTSTAMP:20260420T214724
CREATED:20251111T124309Z
LAST-MODIFIED:20251111T124309Z
UID:11550-1774085400-1774098000@prev.staegetritt.ch
SUMMARY:Ladies Brunch
DESCRIPTION:
URL:https://prev.staegetritt.ch/veranstaltung/ladies-brunch/
LOCATION:gate27\, Theaterstrasse 27b\, Winterthur\, 8400
CATEGORIES:Events
ATTACH;FMTTYPE=image/png:https://prev.staegetritt.ch/wp-content/uploads/2025/11/ladiesbrunch-agenda.png
END:VEVENT
BEGIN:VEVENT
DTSTART;TZID=Europe/Zurich:20260324T183000
DTEND;TZID=Europe/Zurich:20260324T193000
DTSTAMP:20260420T214724
CREATED:20260107T121457Z
LAST-MODIFIED:20260107T122400Z
UID:12308-1774377000-1774380600@prev.staegetritt.ch
SUMMARY:Schwangerschaftspilates
DESCRIPTION:
URL:https://prev.staegetritt.ch/veranstaltung/schwangerschaftspilates-43/
LOCATION:gate27\, Theaterstrasse 27b\, Winterthur\, 8400
CATEGORIES:Familien
ATTACH;FMTTYPE=image/webp:https://prev.staegetritt.ch/wp-content/uploads/2025/11/schwangerschaftspilates-titelbild.webp
END:VEVENT
BEGIN:VEVENT
DTSTART;TZID=Europe/Zurich:20260325T093000
DTEND;TZID=Europe/Zurich:20260325T120000
DTSTAMP:20260420T214724
CREATED:20251125T134317Z
LAST-MODIFIED:20251125T134317Z
UID:11973-1774431000-1774440000@prev.staegetritt.ch
SUMMARY:Sensorama
DESCRIPTION:
URL:https://prev.staegetritt.ch/veranstaltung/sensorama-41/
LOCATION:gate27\, Theaterstrasse 27b\, Winterthur\, 8400
CATEGORIES:Familien
ATTACH;FMTTYPE=image/jpeg:https://prev.staegetritt.ch/wp-content/uploads/2025/05/agenda-sensorama.jpg
END:VEVENT
BEGIN:VEVENT
DTSTART;TZID=Europe/Zurich:20260325T100000
DTEND;TZID=Europe/Zurich:20260325T110000
DTSTAMP:20260420T214724
CREATED:20251125T110256Z
LAST-MODIFIED:20251125T110256Z
UID:11879-1774432800-1774436400@prev.staegetritt.ch
SUMMARY:Rückbildungspilates
DESCRIPTION:
URL:https://prev.staegetritt.ch/veranstaltung/rueckbildungspilates-63/
LOCATION:gate27\, Theaterstrasse 27b\, Winterthur\, 8400
CATEGORIES:Familien
ATTACH;FMTTYPE=image/jpeg:https://prev.staegetritt.ch/wp-content/uploads/2025/05/agenda-rueckbildungspilates-1.jpg
END:VEVENT
BEGIN:VEVENT
DTSTART;TZID=Europe/Zurich:20260325T120000
DTEND;TZID=Europe/Zurich:20260325T133000
DTSTAMP:20260420T214724
CREATED:20251222T083956Z
LAST-MODIFIED:20251222T083956Z
UID:12274-1774440000-1774445400@prev.staegetritt.ch
SUMMARY:Mittagstisch
DESCRIPTION:
URL:https://prev.staegetritt.ch/veranstaltung/mittagstisch-260325/
LOCATION:gate27\, Theaterstrasse 27b\, Winterthur\, 8400
CATEGORIES:Events
ATTACH;FMTTYPE=image/jpeg:https://prev.staegetritt.ch/wp-content/uploads/2025/05/agenda-mittagstisch.jpg
END:VEVENT
BEGIN:VEVENT
DTSTART;TZID=Europe/Zurich:20260325T150000
DTEND;TZID=Europe/Zurich:20260325T170000
DTSTAMP:20260420T214724
CREATED:20251125T135021Z
LAST-MODIFIED:20251125T135021Z
UID:12001-1774450800-1774458000@prev.staegetritt.ch
SUMMARY:Colorama
DESCRIPTION:
URL:https://prev.staegetritt.ch/veranstaltung/colorama-18/
LOCATION:gate27\, Theaterstrasse 27b\, Winterthur\, 8400
CATEGORIES:Familien
ATTACH;FMTTYPE=image/png:https://prev.staegetritt.ch/wp-content/uploads/2025/10/colorama-agenda.png
END:VEVENT
BEGIN:VEVENT
DTSTART;TZID=Europe/Zurich:20260326T084500
DTEND;TZID=Europe/Zurich:20260326T111500
DTSTAMP:20260420T214724
CREATED:20251125T133916Z
LAST-MODIFIED:20251125T133916Z
UID:11937-1774514700-1774523700@prev.staegetritt.ch
SUMMARY:Bärliland
DESCRIPTION:
URL:https://prev.staegetritt.ch/veranstaltung/baerliland-67/
LOCATION:gate27\, Theaterstrasse 27b\, Winterthur\, 8400
CATEGORIES:Familien
ATTACH;FMTTYPE=image/jpeg:https://prev.staegetritt.ch/wp-content/uploads/2025/05/agenda-baerliland.jpg
END:VEVENT
BEGIN:VEVENT
DTSTART;TZID=Europe/Zurich:20260326T090000
DTEND;TZID=Europe/Zurich:20260326T110000
DTSTAMP:20260420T214724
CREATED:20251125T135615Z
LAST-MODIFIED:20260131T154224Z
UID:12027-1774515600-1774522800@prev.staegetritt.ch
SUMMARY:Eltern-Kind-Singen
DESCRIPTION:
URL:https://prev.staegetritt.ch/veranstaltung/eltern-kind-singen-58/
LOCATION:gate27\, Theaterstrasse 27b\, Winterthur\, 8400
CATEGORIES:Familien
ATTACH;FMTTYPE=image/webp:https://prev.staegetritt.ch/wp-content/uploads/2025/12/eltern-kind-singen-agenda.webp
END:VEVENT
BEGIN:VEVENT
DTSTART;TZID=Europe/Zurich:20260327T084500
DTEND;TZID=Europe/Zurich:20260327T111500
DTSTAMP:20260420T214724
CREATED:20251125T134113Z
LAST-MODIFIED:20251125T134113Z
UID:11938-1774601100-1774610100@prev.staegetritt.ch
SUMMARY:Bärliland
DESCRIPTION:
URL:https://prev.staegetritt.ch/veranstaltung/baerliland-68/
LOCATION:gate27\, Theaterstrasse 27b\, Winterthur\, 8400
CATEGORIES:Familien
ATTACH;FMTTYPE=image/jpeg:https://prev.staegetritt.ch/wp-content/uploads/2025/05/agenda-baerliland.jpg
END:VEVENT
BEGIN:VEVENT
DTSTART;TZID=Europe/Zurich:20260327T130000
DTEND;TZID=Europe/Zurich:20260327T150000
DTSTAMP:20260420T214724
CREATED:20260306T122504Z
LAST-MODIFIED:20260306T122504Z
UID:12482-1774616400-1774623600@prev.staegetritt.ch
SUMMARY:Mein Baby verstehen - von Anfang an
DESCRIPTION:
URL:https://prev.staegetritt.ch/veranstaltung/mein-baby-verstehen-von-anfang-an/
LOCATION:gate27\, Theaterstrasse 27b\, Winterthur\, 8400
CATEGORIES:Familien
ATTACH;FMTTYPE=image/jpeg:https://prev.staegetritt.ch/wp-content/uploads/2026/02/baby-verstehen-agenda.jpg
END:VEVENT
BEGIN:VEVENT
DTSTART;TZID=Europe/Zurich:20260331T183000
DTEND;TZID=Europe/Zurich:20260331T193000
DTSTAMP:20260420T214724
CREATED:20260107T121504Z
LAST-MODIFIED:20260107T122411Z
UID:12309-1774981800-1774985400@prev.staegetritt.ch
SUMMARY:Schwangerschaftspilates
DESCRIPTION:
URL:https://prev.staegetritt.ch/veranstaltung/schwangerschaftspilates-44/
LOCATION:gate27\, Theaterstrasse 27b\, Winterthur\, 8400
CATEGORIES:Familien
ATTACH;FMTTYPE=image/webp:https://prev.staegetritt.ch/wp-content/uploads/2025/11/schwangerschaftspilates-titelbild.webp
END:VEVENT
END:VCALENDAR