BEGIN:VCALENDAR
VERSION:2.0
PRODID:-//Stägetritt - ECPv6.15.20//NONSGML v1.0//EN
CALSCALE:GREGORIAN
METHOD:PUBLISH
X-WR-CALNAME:Stägetritt
X-ORIGINAL-URL:https://prev.staegetritt.ch
X-WR-CALDESC:Veranstaltungen für Stägetritt
REFRESH-INTERVAL;VALUE=DURATION:PT1H
X-Robots-Tag:noindex
X-PUBLISHED-TTL:PT1H
BEGIN:VTIMEZONE
TZID:Europe/Zurich
BEGIN:DAYLIGHT
TZOFFSETFROM:+0100
TZOFFSETTO:+0200
TZNAME:CEST
DTSTART:20250330T010000
END:DAYLIGHT
BEGIN:STANDARD
TZOFFSETFROM:+0200
TZOFFSETTO:+0100
TZNAME:CET
DTSTART:20251026T010000
END:STANDARD
BEGIN:DAYLIGHT
TZOFFSETFROM:+0100
TZOFFSETTO:+0200
TZNAME:CEST
DTSTART:20260329T010000
END:DAYLIGHT
BEGIN:STANDARD
TZOFFSETFROM:+0200
TZOFFSETTO:+0100
TZNAME:CET
DTSTART:20261025T010000
END:STANDARD
BEGIN:DAYLIGHT
TZOFFSETFROM:+0100
TZOFFSETTO:+0200
TZNAME:CEST
DTSTART:20270328T010000
END:DAYLIGHT
BEGIN:STANDARD
TZOFFSETFROM:+0200
TZOFFSETTO:+0100
TZNAME:CET
DTSTART:20271031T010000
END:STANDARD
END:VTIMEZONE
BEGIN:VEVENT
DTSTART;TZID=Europe/Zurich:20260602T183000
DTEND;TZID=Europe/Zurich:20260602T193000
DTSTAMP:20260420T200343
CREATED:20260107T121710Z
LAST-MODIFIED:20260107T122550Z
UID:12338-1780425000-1780428600@prev.staegetritt.ch
SUMMARY:Schwangerschaftspilates
DESCRIPTION:
URL:https://prev.staegetritt.ch/veranstaltung/schwangerschaftspilates-53/
LOCATION:gate27\, Theaterstrasse 27b\, Winterthur\, 8400
CATEGORIES:Familien
ATTACH;FMTTYPE=image/webp:https://prev.staegetritt.ch/wp-content/uploads/2025/11/schwangerschaftspilates-titelbild.webp
END:VEVENT
BEGIN:VEVENT
DTSTART;TZID=Europe/Zurich:20260603T093000
DTEND;TZID=Europe/Zurich:20260603T120000
DTSTAMP:20260420T200343
CREATED:20251125T134559Z
LAST-MODIFIED:20251125T134559Z
UID:11983-1780479000-1780488000@prev.staegetritt.ch
SUMMARY:Sensorama
DESCRIPTION:
URL:https://prev.staegetritt.ch/veranstaltung/sensorama-51/
LOCATION:gate27\, Theaterstrasse 27b\, Winterthur\, 8400
CATEGORIES:Familien
ATTACH;FMTTYPE=image/jpeg:https://prev.staegetritt.ch/wp-content/uploads/2025/05/agenda-sensorama.jpg
END:VEVENT
BEGIN:VEVENT
DTSTART;TZID=Europe/Zurich:20260603T140000
DTEND;TZID=Europe/Zurich:20260603T153000
DTSTAMP:20260420T200343
CREATED:20251211T074722Z
LAST-MODIFIED:20251211T074722Z
UID:12254-1780495200-1780500600@prev.staegetritt.ch
SUMMARY:Kaffee & Kuchen
DESCRIPTION:
URL:https://prev.staegetritt.ch/veranstaltung/kaffee-kuchen-260603/
LOCATION:gate27\, Theaterstrasse 27b\, Winterthur\, 8400
CATEGORIES:Events
ATTACH;FMTTYPE=image/jpeg:https://prev.staegetritt.ch/wp-content/uploads/2025/05/agenda-kaffee-kuchen.jpg
END:VEVENT
BEGIN:VEVENT
DTSTART;TZID=Europe/Zurich:20260603T150000
DTEND;TZID=Europe/Zurich:20260603T170000
DTSTAMP:20260420T200343
CREATED:20251125T135228Z
LAST-MODIFIED:20251125T135228Z
UID:12011-1780498800-1780506000@prev.staegetritt.ch
SUMMARY:Colorama
DESCRIPTION:
URL:https://prev.staegetritt.ch/veranstaltung/colorama-28/
LOCATION:gate27\, Theaterstrasse 27b\, Winterthur\, 8400
CATEGORIES:Familien
ATTACH;FMTTYPE=image/png:https://prev.staegetritt.ch/wp-content/uploads/2025/10/colorama-agenda.png
END:VEVENT
BEGIN:VEVENT
DTSTART;TZID=Europe/Zurich:20260604T084500
DTEND;TZID=Europe/Zurich:20260604T111500
DTSTAMP:20260420T200343
CREATED:20251125T134204Z
LAST-MODIFIED:20251125T134204Z
UID:11950-1780562700-1780571700@prev.staegetritt.ch
SUMMARY:Bärliland
DESCRIPTION:
URL:https://prev.staegetritt.ch/veranstaltung/baerliland-80/
LOCATION:gate27\, Theaterstrasse 27b\, Winterthur\, 8400
CATEGORIES:Familien
ATTACH;FMTTYPE=image/jpeg:https://prev.staegetritt.ch/wp-content/uploads/2025/05/agenda-baerliland.jpg
END:VEVENT
BEGIN:VEVENT
DTSTART;TZID=Europe/Zurich:20260604T090000
DTEND;TZID=Europe/Zurich:20260604T110000
DTSTAMP:20260420T200343
CREATED:20251125T135643Z
LAST-MODIFIED:20260131T154317Z
UID:12035-1780563600-1780570800@prev.staegetritt.ch
SUMMARY:Eltern-Kind-Singen
DESCRIPTION:
URL:https://prev.staegetritt.ch/veranstaltung/eltern-kind-singen-66/
LOCATION:gate27\, Theaterstrasse 27b\, Winterthur\, 8400
CATEGORIES:Familien
ATTACH;FMTTYPE=image/webp:https://prev.staegetritt.ch/wp-content/uploads/2025/12/eltern-kind-singen-agenda.webp
END:VEVENT
BEGIN:VEVENT
DTSTART;TZID=Europe/Zurich:20260605T084500
DTEND;TZID=Europe/Zurich:20260605T111500
DTSTAMP:20260420T200343
CREATED:20251125T134205Z
LAST-MODIFIED:20251125T134205Z
UID:11951-1780649100-1780658100@prev.staegetritt.ch
SUMMARY:Bärliland
DESCRIPTION:
URL:https://prev.staegetritt.ch/veranstaltung/baerliland-81/
LOCATION:gate27\, Theaterstrasse 27b\, Winterthur\, 8400
CATEGORIES:Familien
ATTACH;FMTTYPE=image/jpeg:https://prev.staegetritt.ch/wp-content/uploads/2025/05/agenda-baerliland.jpg
END:VEVENT
BEGIN:VEVENT
DTSTART;TZID=Europe/Zurich:20260609T183000
DTEND;TZID=Europe/Zurich:20260609T193000
DTSTAMP:20260420T200343
CREATED:20260107T121717Z
LAST-MODIFIED:20260107T122600Z
UID:12339-1781029800-1781033400@prev.staegetritt.ch
SUMMARY:Schwangerschaftspilates
DESCRIPTION:
URL:https://prev.staegetritt.ch/veranstaltung/schwangerschaftspilates-54/
LOCATION:gate27\, Theaterstrasse 27b\, Winterthur\, 8400
CATEGORIES:Familien
ATTACH;FMTTYPE=image/webp:https://prev.staegetritt.ch/wp-content/uploads/2025/11/schwangerschaftspilates-titelbild.webp
END:VEVENT
BEGIN:VEVENT
DTSTART;TZID=Europe/Zurich:20260610T093000
DTEND;TZID=Europe/Zurich:20260610T120000
DTSTAMP:20260420T200343
CREATED:20251125T134601Z
LAST-MODIFIED:20251125T134601Z
UID:11984-1781083800-1781092800@prev.staegetritt.ch
SUMMARY:Sensorama
DESCRIPTION:
URL:https://prev.staegetritt.ch/veranstaltung/sensorama-52/
LOCATION:gate27\, Theaterstrasse 27b\, Winterthur\, 8400
CATEGORIES:Familien
ATTACH;FMTTYPE=image/jpeg:https://prev.staegetritt.ch/wp-content/uploads/2025/05/agenda-sensorama.jpg
END:VEVENT
BEGIN:VEVENT
DTSTART;TZID=Europe/Zurich:20260610T150000
DTEND;TZID=Europe/Zurich:20260610T170000
DTSTAMP:20260420T200343
CREATED:20251125T135229Z
LAST-MODIFIED:20251125T135229Z
UID:12012-1781103600-1781110800@prev.staegetritt.ch
SUMMARY:Colorama
DESCRIPTION:
URL:https://prev.staegetritt.ch/veranstaltung/colorama-29/
LOCATION:gate27\, Theaterstrasse 27b\, Winterthur\, 8400
CATEGORIES:Familien
ATTACH;FMTTYPE=image/png:https://prev.staegetritt.ch/wp-content/uploads/2025/10/colorama-agenda.png
END:VEVENT
BEGIN:VEVENT
DTSTART;TZID=Europe/Zurich:20260611T084500
DTEND;TZID=Europe/Zurich:20260611T111500
DTSTAMP:20260420T200343
CREATED:20251125T134206Z
LAST-MODIFIED:20251125T134206Z
UID:11952-1781167500-1781176500@prev.staegetritt.ch
SUMMARY:Bärliland
DESCRIPTION:
URL:https://prev.staegetritt.ch/veranstaltung/baerliland-82/
LOCATION:gate27\, Theaterstrasse 27b\, Winterthur\, 8400
CATEGORIES:Familien
ATTACH;FMTTYPE=image/jpeg:https://prev.staegetritt.ch/wp-content/uploads/2025/05/agenda-baerliland.jpg
END:VEVENT
BEGIN:VEVENT
DTSTART;TZID=Europe/Zurich:20260611T090000
DTEND;TZID=Europe/Zurich:20260611T110000
DTSTAMP:20260420T200343
CREATED:20251125T135644Z
LAST-MODIFIED:20260131T154324Z
UID:12036-1781168400-1781175600@prev.staegetritt.ch
SUMMARY:Eltern-Kind-Singen
DESCRIPTION:
URL:https://prev.staegetritt.ch/veranstaltung/eltern-kind-singen-67/
LOCATION:gate27\, Theaterstrasse 27b\, Winterthur\, 8400
CATEGORIES:Familien
ATTACH;FMTTYPE=image/webp:https://prev.staegetritt.ch/wp-content/uploads/2025/12/eltern-kind-singen-agenda.webp
END:VEVENT
BEGIN:VEVENT
DTSTART;TZID=Europe/Zurich:20260611T170000
DTEND;TZID=Europe/Zurich:20260611T190000
DTSTAMP:20260420T200343
CREATED:20251119T101700Z
LAST-MODIFIED:20251119T101700Z
UID:11713-1781197200-1781204400@prev.staegetritt.ch
SUMMARY:Märt27
DESCRIPTION:
URL:https://prev.staegetritt.ch/veranstaltung/maert27-24/
LOCATION:gate27\, Theaterstrasse 27b\, Winterthur\, 8400
CATEGORIES:Support
ATTACH;FMTTYPE=image/webp:https://prev.staegetritt.ch/wp-content/uploads/2025/11/food-care-maert27-agenda.webp
END:VEVENT
BEGIN:VEVENT
DTSTART;TZID=Europe/Zurich:20260612T084500
DTEND;TZID=Europe/Zurich:20260612T111500
DTSTAMP:20260420T200343
CREATED:20251125T134216Z
LAST-MODIFIED:20251125T134216Z
UID:11953-1781253900-1781262900@prev.staegetritt.ch
SUMMARY:Bärliland
DESCRIPTION:
URL:https://prev.staegetritt.ch/veranstaltung/baerliland-83/
LOCATION:gate27\, Theaterstrasse 27b\, Winterthur\, 8400
CATEGORIES:Familien
ATTACH;FMTTYPE=image/jpeg:https://prev.staegetritt.ch/wp-content/uploads/2025/05/agenda-baerliland.jpg
END:VEVENT
BEGIN:VEVENT
DTSTART;TZID=Europe/Zurich:20260613T090000
DTEND;TZID=Europe/Zurich:20260613T130000
DTSTAMP:20260420T200343
CREATED:20251107T144138Z
LAST-MODIFIED:20260113T112815Z
UID:11513-1781341200-1781355600@prev.staegetritt.ch
SUMMARY:Brunch am Samstag
DESCRIPTION:
URL:https://prev.staegetritt.ch/veranstaltung/brunch-am-samstag-260613/
LOCATION:jederziit\, Theaterstrasse 27b\, Winterthur\, 8400
CATEGORIES:Events
ATTACH;FMTTYPE=image/webp:https://prev.staegetritt.ch/wp-content/uploads/2025/11/brunch-titelbild.webp
END:VEVENT
BEGIN:VEVENT
DTSTART;TZID=Europe/Zurich:20260616T183000
DTEND;TZID=Europe/Zurich:20260616T193000
DTSTAMP:20260420T200343
CREATED:20260107T121724Z
LAST-MODIFIED:20260107T122609Z
UID:12340-1781634600-1781638200@prev.staegetritt.ch
SUMMARY:Schwangerschaftspilates
DESCRIPTION:
URL:https://prev.staegetritt.ch/veranstaltung/schwangerschaftspilates-55/
LOCATION:gate27\, Theaterstrasse 27b\, Winterthur\, 8400
CATEGORIES:Familien
ATTACH;FMTTYPE=image/webp:https://prev.staegetritt.ch/wp-content/uploads/2025/11/schwangerschaftspilates-titelbild.webp
END:VEVENT
BEGIN:VEVENT
DTSTART;TZID=Europe/Zurich:20260617T093000
DTEND;TZID=Europe/Zurich:20260617T120000
DTSTAMP:20260420T200343
CREATED:20251125T134602Z
LAST-MODIFIED:20251125T134602Z
UID:11985-1781688600-1781697600@prev.staegetritt.ch
SUMMARY:Sensorama
DESCRIPTION:
URL:https://prev.staegetritt.ch/veranstaltung/sensorama-53/
LOCATION:gate27\, Theaterstrasse 27b\, Winterthur\, 8400
CATEGORIES:Familien
ATTACH;FMTTYPE=image/jpeg:https://prev.staegetritt.ch/wp-content/uploads/2025/05/agenda-sensorama.jpg
END:VEVENT
BEGIN:VEVENT
DTSTART;TZID=Europe/Zurich:20260617T120000
DTEND;TZID=Europe/Zurich:20260617T133000
DTSTAMP:20260420T200343
CREATED:20251222T084045Z
LAST-MODIFIED:20251222T084045Z
UID:12277-1781697600-1781703000@prev.staegetritt.ch
SUMMARY:Mittagstisch
DESCRIPTION:
URL:https://prev.staegetritt.ch/veranstaltung/mittagstisch-260617/
LOCATION:gate27\, Theaterstrasse 27b\, Winterthur\, 8400
CATEGORIES:Events
ATTACH;FMTTYPE=image/jpeg:https://prev.staegetritt.ch/wp-content/uploads/2025/05/agenda-mittagstisch.jpg
END:VEVENT
BEGIN:VEVENT
DTSTART;TZID=Europe/Zurich:20260617T150000
DTEND;TZID=Europe/Zurich:20260617T170000
DTSTAMP:20260420T200343
CREATED:20251125T135318Z
LAST-MODIFIED:20251125T135318Z
UID:12013-1781708400-1781715600@prev.staegetritt.ch
SUMMARY:Colorama
DESCRIPTION:
URL:https://prev.staegetritt.ch/veranstaltung/colorama-30/
LOCATION:gate27\, Theaterstrasse 27b\, Winterthur\, 8400
CATEGORIES:Familien
ATTACH;FMTTYPE=image/png:https://prev.staegetritt.ch/wp-content/uploads/2025/10/colorama-agenda.png
END:VEVENT
BEGIN:VEVENT
DTSTART;TZID=Europe/Zurich:20260618T084500
DTEND;TZID=Europe/Zurich:20260618T111500
DTSTAMP:20260420T200343
CREATED:20251125T134217Z
LAST-MODIFIED:20251125T134217Z
UID:11954-1781772300-1781781300@prev.staegetritt.ch
SUMMARY:Bärliland
DESCRIPTION:
URL:https://prev.staegetritt.ch/veranstaltung/baerliland-84/
LOCATION:gate27\, Theaterstrasse 27b\, Winterthur\, 8400
CATEGORIES:Familien
ATTACH;FMTTYPE=image/jpeg:https://prev.staegetritt.ch/wp-content/uploads/2025/05/agenda-baerliland.jpg
END:VEVENT
BEGIN:VEVENT
DTSTART;TZID=Europe/Zurich:20260618T090000
DTEND;TZID=Europe/Zurich:20260618T110000
DTSTAMP:20260420T200343
CREATED:20251125T135645Z
LAST-MODIFIED:20260131T154331Z
UID:12037-1781773200-1781780400@prev.staegetritt.ch
SUMMARY:Eltern-Kind-Singen
DESCRIPTION:
URL:https://prev.staegetritt.ch/veranstaltung/eltern-kind-singen-68/
LOCATION:gate27\, Theaterstrasse 27b\, Winterthur\, 8400
CATEGORIES:Familien
ATTACH;FMTTYPE=image/webp:https://prev.staegetritt.ch/wp-content/uploads/2025/12/eltern-kind-singen-agenda.webp
END:VEVENT
BEGIN:VEVENT
DTSTART;TZID=Europe/Zurich:20260619T084500
DTEND;TZID=Europe/Zurich:20260619T111500
DTSTAMP:20260420T200343
CREATED:20251125T134218Z
LAST-MODIFIED:20251125T134218Z
UID:11955-1781858700-1781867700@prev.staegetritt.ch
SUMMARY:Bärliland
DESCRIPTION:
URL:https://prev.staegetritt.ch/veranstaltung/baerliland-85/
LOCATION:gate27\, Theaterstrasse 27b\, Winterthur\, 8400
CATEGORIES:Familien
ATTACH;FMTTYPE=image/jpeg:https://prev.staegetritt.ch/wp-content/uploads/2025/05/agenda-baerliland.jpg
END:VEVENT
BEGIN:VEVENT
DTSTART;TZID=Europe/Zurich:20260623T183000
DTEND;TZID=Europe/Zurich:20260623T193000
DTSTAMP:20260420T200343
CREATED:20260107T121730Z
LAST-MODIFIED:20260107T122619Z
UID:12341-1782239400-1782243000@prev.staegetritt.ch
SUMMARY:Schwangerschaftspilates
DESCRIPTION:
URL:https://prev.staegetritt.ch/veranstaltung/schwangerschaftspilates-56/
LOCATION:gate27\, Theaterstrasse 27b\, Winterthur\, 8400
CATEGORIES:Familien
ATTACH;FMTTYPE=image/webp:https://prev.staegetritt.ch/wp-content/uploads/2025/11/schwangerschaftspilates-titelbild.webp
END:VEVENT
BEGIN:VEVENT
DTSTART;TZID=Europe/Zurich:20260624T093000
DTEND;TZID=Europe/Zurich:20260624T120000
DTSTAMP:20260420T200343
CREATED:20251125T134603Z
LAST-MODIFIED:20251125T134603Z
UID:11986-1782293400-1782302400@prev.staegetritt.ch
SUMMARY:Sensorama
DESCRIPTION:
URL:https://prev.staegetritt.ch/veranstaltung/sensorama-54/
LOCATION:gate27\, Theaterstrasse 27b\, Winterthur\, 8400
CATEGORIES:Familien
ATTACH;FMTTYPE=image/jpeg:https://prev.staegetritt.ch/wp-content/uploads/2025/05/agenda-sensorama.jpg
END:VEVENT
BEGIN:VEVENT
DTSTART;TZID=Europe/Zurich:20260624T150000
DTEND;TZID=Europe/Zurich:20260624T170000
DTSTAMP:20260420T200343
CREATED:20251125T135319Z
LAST-MODIFIED:20251125T135319Z
UID:12014-1782313200-1782320400@prev.staegetritt.ch
SUMMARY:Colorama
DESCRIPTION:
URL:https://prev.staegetritt.ch/veranstaltung/colorama-31/
LOCATION:gate27\, Theaterstrasse 27b\, Winterthur\, 8400
CATEGORIES:Familien
ATTACH;FMTTYPE=image/png:https://prev.staegetritt.ch/wp-content/uploads/2025/10/colorama-agenda.png
END:VEVENT
BEGIN:VEVENT
DTSTART;TZID=Europe/Zurich:20260625T084500
DTEND;TZID=Europe/Zurich:20260625T111500
DTSTAMP:20260420T200343
CREATED:20251125T134219Z
LAST-MODIFIED:20251125T134219Z
UID:11956-1782377100-1782386100@prev.staegetritt.ch
SUMMARY:Bärliland
DESCRIPTION:
URL:https://prev.staegetritt.ch/veranstaltung/baerliland-86/
LOCATION:gate27\, Theaterstrasse 27b\, Winterthur\, 8400
CATEGORIES:Familien
ATTACH;FMTTYPE=image/jpeg:https://prev.staegetritt.ch/wp-content/uploads/2025/05/agenda-baerliland.jpg
END:VEVENT
BEGIN:VEVENT
DTSTART;TZID=Europe/Zurich:20260625T090000
DTEND;TZID=Europe/Zurich:20260625T110000
DTSTAMP:20260420T200343
CREATED:20251125T135657Z
LAST-MODIFIED:20260131T154337Z
UID:12038-1782378000-1782385200@prev.staegetritt.ch
SUMMARY:Eltern-Kind-Singen
DESCRIPTION:
URL:https://prev.staegetritt.ch/veranstaltung/eltern-kind-singen-69/
LOCATION:gate27\, Theaterstrasse 27b\, Winterthur\, 8400
CATEGORIES:Familien
ATTACH;FMTTYPE=image/webp:https://prev.staegetritt.ch/wp-content/uploads/2025/12/eltern-kind-singen-agenda.webp
END:VEVENT
BEGIN:VEVENT
DTSTART;TZID=Europe/Zurich:20260625T170000
DTEND;TZID=Europe/Zurich:20260625T190000
DTSTAMP:20260420T200343
CREATED:20251119T101711Z
LAST-MODIFIED:20251119T101711Z
UID:11714-1782406800-1782414000@prev.staegetritt.ch
SUMMARY:Märt27
DESCRIPTION:
URL:https://prev.staegetritt.ch/veranstaltung/maert27-25/
LOCATION:gate27\, Theaterstrasse 27b\, Winterthur\, 8400
CATEGORIES:Support
ATTACH;FMTTYPE=image/webp:https://prev.staegetritt.ch/wp-content/uploads/2025/11/food-care-maert27-agenda.webp
END:VEVENT
BEGIN:VEVENT
DTSTART;TZID=Europe/Zurich:20260626T084500
DTEND;TZID=Europe/Zurich:20260626T111500
DTSTAMP:20260420T200343
CREATED:20251125T134220Z
LAST-MODIFIED:20251125T134220Z
UID:11957-1782463500-1782472500@prev.staegetritt.ch
SUMMARY:Bärliland
DESCRIPTION:
URL:https://prev.staegetritt.ch/veranstaltung/baerliland-87/
LOCATION:gate27\, Theaterstrasse 27b\, Winterthur\, 8400
CATEGORIES:Familien
ATTACH;FMTTYPE=image/jpeg:https://prev.staegetritt.ch/wp-content/uploads/2025/05/agenda-baerliland.jpg
END:VEVENT
BEGIN:VEVENT
DTSTART;TZID=Europe/Zurich:20260630T183000
DTEND;TZID=Europe/Zurich:20260630T193000
DTSTAMP:20260420T200343
CREATED:20260107T121738Z
LAST-MODIFIED:20260107T122630Z
UID:12342-1782844200-1782847800@prev.staegetritt.ch
SUMMARY:Schwangerschaftspilates
DESCRIPTION:
URL:https://prev.staegetritt.ch/veranstaltung/schwangerschaftspilates-57/
LOCATION:gate27\, Theaterstrasse 27b\, Winterthur\, 8400
CATEGORIES:Familien
ATTACH;FMTTYPE=image/webp:https://prev.staegetritt.ch/wp-content/uploads/2025/11/schwangerschaftspilates-titelbild.webp
END:VEVENT
END:VCALENDAR