BEGIN:VCALENDAR
VERSION:2.0
PRODID:-//Stägetritt - ECPv6.15.20//NONSGML v1.0//EN
CALSCALE:GREGORIAN
METHOD:PUBLISH
X-WR-CALNAME:Stägetritt
X-ORIGINAL-URL:https://prev.staegetritt.ch
X-WR-CALDESC:Veranstaltungen für Stägetritt
REFRESH-INTERVAL;VALUE=DURATION:PT1H
X-Robots-Tag:noindex
X-PUBLISHED-TTL:PT1H
BEGIN:VTIMEZONE
TZID:Europe/Zurich
BEGIN:DAYLIGHT
TZOFFSETFROM:+0100
TZOFFSETTO:+0200
TZNAME:CEST
DTSTART:20250330T010000
END:DAYLIGHT
BEGIN:STANDARD
TZOFFSETFROM:+0200
TZOFFSETTO:+0100
TZNAME:CET
DTSTART:20251026T010000
END:STANDARD
BEGIN:DAYLIGHT
TZOFFSETFROM:+0100
TZOFFSETTO:+0200
TZNAME:CEST
DTSTART:20260329T010000
END:DAYLIGHT
BEGIN:STANDARD
TZOFFSETFROM:+0200
TZOFFSETTO:+0100
TZNAME:CET
DTSTART:20261025T010000
END:STANDARD
BEGIN:DAYLIGHT
TZOFFSETFROM:+0100
TZOFFSETTO:+0200
TZNAME:CEST
DTSTART:20270328T010000
END:DAYLIGHT
BEGIN:STANDARD
TZOFFSETFROM:+0200
TZOFFSETTO:+0100
TZNAME:CET
DTSTART:20271031T010000
END:STANDARD
END:VTIMEZONE
BEGIN:VEVENT
DTSTART;TZID=Europe/Zurich:20260417T084500
DTEND;TZID=Europe/Zurich:20260417T111500
DTSTAMP:20260420T200500
CREATED:20251125T134151Z
LAST-MODIFIED:20251125T134151Z
UID:11943-1776415500-1776424500@prev.staegetritt.ch
SUMMARY:Bärliland
DESCRIPTION:
URL:https://prev.staegetritt.ch/veranstaltung/baerliland-73/
LOCATION:gate27\, Theaterstrasse 27b\, Winterthur\, 8400
CATEGORIES:Familien
ATTACH;FMTTYPE=image/jpeg:https://prev.staegetritt.ch/wp-content/uploads/2025/05/agenda-baerliland.jpg
END:VEVENT
BEGIN:VEVENT
DTSTART;TZID=Europe/Zurich:20260416T170000
DTEND;TZID=Europe/Zurich:20260416T190000
DTSTAMP:20260420T200500
CREATED:20251119T101621Z
LAST-MODIFIED:20251119T101621Z
UID:11710-1776358800-1776366000@prev.staegetritt.ch
SUMMARY:Märt27
DESCRIPTION:
URL:https://prev.staegetritt.ch/veranstaltung/maert27-21/
LOCATION:gate27\, Theaterstrasse 27b\, Winterthur\, 8400
CATEGORIES:Support
ATTACH;FMTTYPE=image/webp:https://prev.staegetritt.ch/wp-content/uploads/2025/11/food-care-maert27-agenda.webp
END:VEVENT
BEGIN:VEVENT
DTSTART;TZID=Europe/Zurich:20260416T140000
DTEND;TZID=Europe/Zurich:20260416T153000
DTSTAMP:20260420T200500
CREATED:20251211T074640Z
LAST-MODIFIED:20251211T074640Z
UID:12252-1776348000-1776353400@prev.staegetritt.ch
SUMMARY:Kaffee & Kuchen
DESCRIPTION:
URL:https://prev.staegetritt.ch/veranstaltung/kaffee-kuchen-260416/
LOCATION:gate27\, Theaterstrasse 27b\, Winterthur\, 8400
CATEGORIES:Events
ATTACH;FMTTYPE=image/jpeg:https://prev.staegetritt.ch/wp-content/uploads/2025/05/agenda-kaffee-kuchen.jpg
END:VEVENT
BEGIN:VEVENT
DTSTART;TZID=Europe/Zurich:20260416T090000
DTEND;TZID=Europe/Zurich:20260416T110000
DTSTAMP:20260420T200500
CREATED:20251125T135628Z
LAST-MODIFIED:20260131T154243Z
UID:12030-1776330000-1776337200@prev.staegetritt.ch
SUMMARY:Eltern-Kind-Singen
DESCRIPTION:
URL:https://prev.staegetritt.ch/veranstaltung/eltern-kind-singen-61/
LOCATION:gate27\, Theaterstrasse 27b\, Winterthur\, 8400
CATEGORIES:Familien
ATTACH;FMTTYPE=image/webp:https://prev.staegetritt.ch/wp-content/uploads/2025/12/eltern-kind-singen-agenda.webp
END:VEVENT
BEGIN:VEVENT
DTSTART;TZID=Europe/Zurich:20260416T084500
DTEND;TZID=Europe/Zurich:20260416T111500
DTSTAMP:20260420T200500
CREATED:20251125T134117Z
LAST-MODIFIED:20251125T134117Z
UID:11942-1776329100-1776338100@prev.staegetritt.ch
SUMMARY:Bärliland
DESCRIPTION:
URL:https://prev.staegetritt.ch/veranstaltung/baerliland-72/
LOCATION:gate27\, Theaterstrasse 27b\, Winterthur\, 8400
CATEGORIES:Familien
ATTACH;FMTTYPE=image/jpeg:https://prev.staegetritt.ch/wp-content/uploads/2025/05/agenda-baerliland.jpg
END:VEVENT
BEGIN:VEVENT
DTSTART;TZID=Europe/Zurich:20260415T150000
DTEND;TZID=Europe/Zurich:20260415T170000
DTSTAMP:20260420T200500
CREATED:20251125T135034Z
LAST-MODIFIED:20251125T135034Z
UID:12004-1776265200-1776272400@prev.staegetritt.ch
SUMMARY:Colorama
DESCRIPTION:
URL:https://prev.staegetritt.ch/veranstaltung/colorama-21/
LOCATION:gate27\, Theaterstrasse 27b\, Winterthur\, 8400
CATEGORIES:Familien
ATTACH;FMTTYPE=image/png:https://prev.staegetritt.ch/wp-content/uploads/2025/10/colorama-agenda.png
END:VEVENT
BEGIN:VEVENT
DTSTART;TZID=Europe/Zurich:20260415T100000
DTEND;TZID=Europe/Zurich:20260415T110000
DTSTAMP:20260420T200500
CREATED:20251125T110317Z
LAST-MODIFIED:20251125T110317Z
UID:11882-1776247200-1776250800@prev.staegetritt.ch
SUMMARY:Rückbildungspilates
DESCRIPTION:
URL:https://prev.staegetritt.ch/veranstaltung/rueckbildungspilates-66/
LOCATION:gate27\, Theaterstrasse 27b\, Winterthur\, 8400
CATEGORIES:Familien
ATTACH;FMTTYPE=image/jpeg:https://prev.staegetritt.ch/wp-content/uploads/2025/05/agenda-rueckbildungspilates-1.jpg
END:VEVENT
BEGIN:VEVENT
DTSTART;TZID=Europe/Zurich:20260415T093000
DTEND;TZID=Europe/Zurich:20260415T120000
DTSTAMP:20260420T200500
CREATED:20251125T134320Z
LAST-MODIFIED:20251125T134320Z
UID:11976-1776245400-1776254400@prev.staegetritt.ch
SUMMARY:Sensorama
DESCRIPTION:
URL:https://prev.staegetritt.ch/veranstaltung/sensorama-44/
LOCATION:gate27\, Theaterstrasse 27b\, Winterthur\, 8400
CATEGORIES:Familien
ATTACH;FMTTYPE=image/jpeg:https://prev.staegetritt.ch/wp-content/uploads/2025/05/agenda-sensorama.jpg
END:VEVENT
BEGIN:VEVENT
DTSTART;TZID=Europe/Zurich:20260414T183000
DTEND;TZID=Europe/Zurich:20260414T193000
DTSTAMP:20260420T200500
CREATED:20260107T121521Z
LAST-MODIFIED:20260107T122432Z
UID:12311-1776191400-1776195000@prev.staegetritt.ch
SUMMARY:Schwangerschaftspilates
DESCRIPTION:
URL:https://prev.staegetritt.ch/veranstaltung/schwangerschaftspilates-46/
LOCATION:gate27\, Theaterstrasse 27b\, Winterthur\, 8400
CATEGORIES:Familien
ATTACH;FMTTYPE=image/webp:https://prev.staegetritt.ch/wp-content/uploads/2025/11/schwangerschaftspilates-titelbild.webp
END:VEVENT
BEGIN:VEVENT
DTSTART;TZID=Europe/Zurich:20260411T090000
DTEND;TZID=Europe/Zurich:20260411T130000
DTSTAMP:20260420T200500
CREATED:20251127T115246Z
LAST-MODIFIED:20260113T112756Z
UID:12110-1775898000-1775912400@prev.staegetritt.ch
SUMMARY:Brunch am Samstag
DESCRIPTION:
URL:https://prev.staegetritt.ch/veranstaltung/brunch-am-samstag-260411/
LOCATION:jederziit\, Theaterstrasse 27b\, Winterthur\, 8400
CATEGORIES:Events
ATTACH;FMTTYPE=image/webp:https://prev.staegetritt.ch/wp-content/uploads/2025/11/brunch-titelbild.webp
END:VEVENT
BEGIN:VEVENT
DTSTART;TZID=Europe/Zurich:20260410T084500
DTEND;TZID=Europe/Zurich:20260410T111500
DTSTAMP:20260420T200500
CREATED:20251125T134116Z
LAST-MODIFIED:20251125T134116Z
UID:11941-1775810700-1775819700@prev.staegetritt.ch
SUMMARY:Bärliland
DESCRIPTION:
URL:https://prev.staegetritt.ch/veranstaltung/baerliland-71/
LOCATION:gate27\, Theaterstrasse 27b\, Winterthur\, 8400
CATEGORIES:Familien
ATTACH;FMTTYPE=image/jpeg:https://prev.staegetritt.ch/wp-content/uploads/2025/05/agenda-baerliland.jpg
END:VEVENT
BEGIN:VEVENT
DTSTART;TZID=Europe/Zurich:20260409T090000
DTEND;TZID=Europe/Zurich:20260409T110000
DTSTAMP:20260420T200500
CREATED:20251125T135627Z
LAST-MODIFIED:20260131T154237Z
UID:12029-1775725200-1775732400@prev.staegetritt.ch
SUMMARY:Eltern-Kind-Singen
DESCRIPTION:
URL:https://prev.staegetritt.ch/veranstaltung/eltern-kind-singen-60/
LOCATION:gate27\, Theaterstrasse 27b\, Winterthur\, 8400
CATEGORIES:Familien
ATTACH;FMTTYPE=image/webp:https://prev.staegetritt.ch/wp-content/uploads/2025/12/eltern-kind-singen-agenda.webp
END:VEVENT
BEGIN:VEVENT
DTSTART;TZID=Europe/Zurich:20260409T084500
DTEND;TZID=Europe/Zurich:20260409T111500
DTSTAMP:20260420T200500
CREATED:20251125T134115Z
LAST-MODIFIED:20251125T134115Z
UID:11940-1775724300-1775733300@prev.staegetritt.ch
SUMMARY:Bärliland
DESCRIPTION:
URL:https://prev.staegetritt.ch/veranstaltung/baerliland-70/
LOCATION:gate27\, Theaterstrasse 27b\, Winterthur\, 8400
CATEGORIES:Familien
ATTACH;FMTTYPE=image/jpeg:https://prev.staegetritt.ch/wp-content/uploads/2025/05/agenda-baerliland.jpg
END:VEVENT
BEGIN:VEVENT
DTSTART;TZID=Europe/Zurich:20260408T150000
DTEND;TZID=Europe/Zurich:20260408T170000
DTSTAMP:20260420T200500
CREATED:20251125T135033Z
LAST-MODIFIED:20251125T135033Z
UID:12003-1775660400-1775667600@prev.staegetritt.ch
SUMMARY:Colorama
DESCRIPTION:
URL:https://prev.staegetritt.ch/veranstaltung/colorama-20/
LOCATION:gate27\, Theaterstrasse 27b\, Winterthur\, 8400
CATEGORIES:Familien
ATTACH;FMTTYPE=image/png:https://prev.staegetritt.ch/wp-content/uploads/2025/10/colorama-agenda.png
END:VEVENT
BEGIN:VEVENT
DTSTART;TZID=Europe/Zurich:20260408T120000
DTEND;TZID=Europe/Zurich:20260408T133000
DTSTAMP:20260420T200500
CREATED:20251222T084012Z
LAST-MODIFIED:20251222T084012Z
UID:12275-1775649600-1775655000@prev.staegetritt.ch
SUMMARY:Mittagstisch
DESCRIPTION:
URL:https://prev.staegetritt.ch/veranstaltung/mittagstisch-260408/
LOCATION:gate27\, Theaterstrasse 27b\, Winterthur\, 8400
CATEGORIES:Events
ATTACH;FMTTYPE=image/jpeg:https://prev.staegetritt.ch/wp-content/uploads/2025/05/agenda-mittagstisch.jpg
END:VEVENT
BEGIN:VEVENT
DTSTART;TZID=Europe/Zurich:20260408T100000
DTEND;TZID=Europe/Zurich:20260408T110000
DTSTAMP:20260420T200500
CREATED:20251125T110310Z
LAST-MODIFIED:20251125T110310Z
UID:11881-1775642400-1775646000@prev.staegetritt.ch
SUMMARY:Rückbildungspilates
DESCRIPTION:
URL:https://prev.staegetritt.ch/veranstaltung/rueckbildungspilates-65/
LOCATION:gate27\, Theaterstrasse 27b\, Winterthur\, 8400
CATEGORIES:Familien
ATTACH;FMTTYPE=image/jpeg:https://prev.staegetritt.ch/wp-content/uploads/2025/05/agenda-rueckbildungspilates-1.jpg
END:VEVENT
BEGIN:VEVENT
DTSTART;TZID=Europe/Zurich:20260408T093000
DTEND;TZID=Europe/Zurich:20260408T120000
DTSTAMP:20260420T200500
CREATED:20251125T134319Z
LAST-MODIFIED:20251125T134319Z
UID:11975-1775640600-1775649600@prev.staegetritt.ch
SUMMARY:Sensorama
DESCRIPTION:
URL:https://prev.staegetritt.ch/veranstaltung/sensorama-43/
LOCATION:gate27\, Theaterstrasse 27b\, Winterthur\, 8400
CATEGORIES:Familien
ATTACH;FMTTYPE=image/jpeg:https://prev.staegetritt.ch/wp-content/uploads/2025/05/agenda-sensorama.jpg
END:VEVENT
BEGIN:VEVENT
DTSTART;TZID=Europe/Zurich:20260407T183000
DTEND;TZID=Europe/Zurich:20260407T193000
DTSTAMP:20260420T200500
CREATED:20260107T121513Z
LAST-MODIFIED:20260107T122421Z
UID:12310-1775586600-1775590200@prev.staegetritt.ch
SUMMARY:Schwangerschaftspilates
DESCRIPTION:
URL:https://prev.staegetritt.ch/veranstaltung/schwangerschaftspilates-45/
LOCATION:gate27\, Theaterstrasse 27b\, Winterthur\, 8400
CATEGORIES:Familien
ATTACH;FMTTYPE=image/webp:https://prev.staegetritt.ch/wp-content/uploads/2025/11/schwangerschaftspilates-titelbild.webp
END:VEVENT
BEGIN:VEVENT
DTSTART;TZID=Europe/Zurich:20260402T170000
DTEND;TZID=Europe/Zurich:20260402T190000
DTSTAMP:20260420T200500
CREATED:20251119T101609Z
LAST-MODIFIED:20251119T101609Z
UID:11709-1775149200-1775156400@prev.staegetritt.ch
SUMMARY:Märt27
DESCRIPTION:
URL:https://prev.staegetritt.ch/veranstaltung/maert27-20/
LOCATION:gate27\, Theaterstrasse 27b\, Winterthur\, 8400
CATEGORIES:Support
ATTACH;FMTTYPE=image/webp:https://prev.staegetritt.ch/wp-content/uploads/2025/11/food-care-maert27-agenda.webp
END:VEVENT
BEGIN:VEVENT
DTSTART;TZID=Europe/Zurich:20260402T090000
DTEND;TZID=Europe/Zurich:20260402T110000
DTSTAMP:20260420T200500
CREATED:20251125T135626Z
LAST-MODIFIED:20260131T154230Z
UID:12028-1775120400-1775127600@prev.staegetritt.ch
SUMMARY:Eltern-Kind-Singen
DESCRIPTION:
URL:https://prev.staegetritt.ch/veranstaltung/eltern-kind-singen-59/
LOCATION:gate27\, Theaterstrasse 27b\, Winterthur\, 8400
CATEGORIES:Familien
ATTACH;FMTTYPE=image/webp:https://prev.staegetritt.ch/wp-content/uploads/2025/12/eltern-kind-singen-agenda.webp
END:VEVENT
BEGIN:VEVENT
DTSTART;TZID=Europe/Zurich:20260402T084500
DTEND;TZID=Europe/Zurich:20260402T111500
DTSTAMP:20260420T200500
CREATED:20251125T134114Z
LAST-MODIFIED:20251125T134114Z
UID:11939-1775119500-1775128500@prev.staegetritt.ch
SUMMARY:Bärliland
DESCRIPTION:
URL:https://prev.staegetritt.ch/veranstaltung/baerliland-69/
LOCATION:gate27\, Theaterstrasse 27b\, Winterthur\, 8400
CATEGORIES:Familien
ATTACH;FMTTYPE=image/jpeg:https://prev.staegetritt.ch/wp-content/uploads/2025/05/agenda-baerliland.jpg
END:VEVENT
BEGIN:VEVENT
DTSTART;TZID=Europe/Zurich:20260401T150000
DTEND;TZID=Europe/Zurich:20260401T170000
DTSTAMP:20260420T200500
CREATED:20251125T135022Z
LAST-MODIFIED:20251125T135022Z
UID:12002-1775055600-1775062800@prev.staegetritt.ch
SUMMARY:Colorama
DESCRIPTION:
URL:https://prev.staegetritt.ch/veranstaltung/colorama-19/
LOCATION:gate27\, Theaterstrasse 27b\, Winterthur\, 8400
CATEGORIES:Familien
ATTACH;FMTTYPE=image/png:https://prev.staegetritt.ch/wp-content/uploads/2025/10/colorama-agenda.png
END:VEVENT
BEGIN:VEVENT
DTSTART;TZID=Europe/Zurich:20260401T100000
DTEND;TZID=Europe/Zurich:20260401T110000
DTSTAMP:20260420T200500
CREATED:20251125T110303Z
LAST-MODIFIED:20251125T110303Z
UID:11880-1775037600-1775041200@prev.staegetritt.ch
SUMMARY:Rückbildungspilates
DESCRIPTION:
URL:https://prev.staegetritt.ch/veranstaltung/rueckbildungspilates-64/
LOCATION:gate27\, Theaterstrasse 27b\, Winterthur\, 8400
CATEGORIES:Familien
ATTACH;FMTTYPE=image/jpeg:https://prev.staegetritt.ch/wp-content/uploads/2025/05/agenda-rueckbildungspilates-1.jpg
END:VEVENT
BEGIN:VEVENT
DTSTART;TZID=Europe/Zurich:20260401T093000
DTEND;TZID=Europe/Zurich:20260401T120000
DTSTAMP:20260420T200500
CREATED:20251125T134318Z
LAST-MODIFIED:20251125T134318Z
UID:11974-1775035800-1775044800@prev.staegetritt.ch
SUMMARY:Sensorama
DESCRIPTION:
URL:https://prev.staegetritt.ch/veranstaltung/sensorama-42/
LOCATION:gate27\, Theaterstrasse 27b\, Winterthur\, 8400
CATEGORIES:Familien
ATTACH;FMTTYPE=image/jpeg:https://prev.staegetritt.ch/wp-content/uploads/2025/05/agenda-sensorama.jpg
END:VEVENT
BEGIN:VEVENT
DTSTART;TZID=Europe/Zurich:20260331T183000
DTEND;TZID=Europe/Zurich:20260331T193000
DTSTAMP:20260420T200500
CREATED:20260107T121504Z
LAST-MODIFIED:20260107T122411Z
UID:12309-1774981800-1774985400@prev.staegetritt.ch
SUMMARY:Schwangerschaftspilates
DESCRIPTION:
URL:https://prev.staegetritt.ch/veranstaltung/schwangerschaftspilates-44/
LOCATION:gate27\, Theaterstrasse 27b\, Winterthur\, 8400
CATEGORIES:Familien
ATTACH;FMTTYPE=image/webp:https://prev.staegetritt.ch/wp-content/uploads/2025/11/schwangerschaftspilates-titelbild.webp
END:VEVENT
BEGIN:VEVENT
DTSTART;TZID=Europe/Zurich:20260327T130000
DTEND;TZID=Europe/Zurich:20260327T150000
DTSTAMP:20260420T200500
CREATED:20260306T122504Z
LAST-MODIFIED:20260306T122504Z
UID:12482-1774616400-1774623600@prev.staegetritt.ch
SUMMARY:Mein Baby verstehen - von Anfang an
DESCRIPTION:
URL:https://prev.staegetritt.ch/veranstaltung/mein-baby-verstehen-von-anfang-an/
LOCATION:gate27\, Theaterstrasse 27b\, Winterthur\, 8400
CATEGORIES:Familien
ATTACH;FMTTYPE=image/jpeg:https://prev.staegetritt.ch/wp-content/uploads/2026/02/baby-verstehen-agenda.jpg
END:VEVENT
BEGIN:VEVENT
DTSTART;TZID=Europe/Zurich:20260327T084500
DTEND;TZID=Europe/Zurich:20260327T111500
DTSTAMP:20260420T200500
CREATED:20251125T134113Z
LAST-MODIFIED:20251125T134113Z
UID:11938-1774601100-1774610100@prev.staegetritt.ch
SUMMARY:Bärliland
DESCRIPTION:
URL:https://prev.staegetritt.ch/veranstaltung/baerliland-68/
LOCATION:gate27\, Theaterstrasse 27b\, Winterthur\, 8400
CATEGORIES:Familien
ATTACH;FMTTYPE=image/jpeg:https://prev.staegetritt.ch/wp-content/uploads/2025/05/agenda-baerliland.jpg
END:VEVENT
BEGIN:VEVENT
DTSTART;TZID=Europe/Zurich:20260326T090000
DTEND;TZID=Europe/Zurich:20260326T110000
DTSTAMP:20260420T200500
CREATED:20251125T135615Z
LAST-MODIFIED:20260131T154224Z
UID:12027-1774515600-1774522800@prev.staegetritt.ch
SUMMARY:Eltern-Kind-Singen
DESCRIPTION:
URL:https://prev.staegetritt.ch/veranstaltung/eltern-kind-singen-58/
LOCATION:gate27\, Theaterstrasse 27b\, Winterthur\, 8400
CATEGORIES:Familien
ATTACH;FMTTYPE=image/webp:https://prev.staegetritt.ch/wp-content/uploads/2025/12/eltern-kind-singen-agenda.webp
END:VEVENT
BEGIN:VEVENT
DTSTART;TZID=Europe/Zurich:20260326T084500
DTEND;TZID=Europe/Zurich:20260326T111500
DTSTAMP:20260420T200500
CREATED:20251125T133916Z
LAST-MODIFIED:20251125T133916Z
UID:11937-1774514700-1774523700@prev.staegetritt.ch
SUMMARY:Bärliland
DESCRIPTION:
URL:https://prev.staegetritt.ch/veranstaltung/baerliland-67/
LOCATION:gate27\, Theaterstrasse 27b\, Winterthur\, 8400
CATEGORIES:Familien
ATTACH;FMTTYPE=image/jpeg:https://prev.staegetritt.ch/wp-content/uploads/2025/05/agenda-baerliland.jpg
END:VEVENT
BEGIN:VEVENT
DTSTART;TZID=Europe/Zurich:20260325T150000
DTEND;TZID=Europe/Zurich:20260325T170000
DTSTAMP:20260420T200500
CREATED:20251125T135021Z
LAST-MODIFIED:20251125T135021Z
UID:12001-1774450800-1774458000@prev.staegetritt.ch
SUMMARY:Colorama
DESCRIPTION:
URL:https://prev.staegetritt.ch/veranstaltung/colorama-18/
LOCATION:gate27\, Theaterstrasse 27b\, Winterthur\, 8400
CATEGORIES:Familien
ATTACH;FMTTYPE=image/png:https://prev.staegetritt.ch/wp-content/uploads/2025/10/colorama-agenda.png
END:VEVENT
END:VCALENDAR